BEGIN:VCALENDAR
VERSION:2.0
PRODID:-//Raum 7 Kassel - ECPv6.15.20//NONSGML v1.0//EN
CALSCALE:GREGORIAN
METHOD:PUBLISH
X-WR-CALNAME:Raum 7 Kassel
X-ORIGINAL-URL:https://raum7-kassel.de
X-WR-CALDESC:Veranstaltungen für Raum 7 Kassel
REFRESH-INTERVAL;VALUE=DURATION:PT1H
X-Robots-Tag:noindex
X-PUBLISHED-TTL:PT1H
BEGIN:VTIMEZONE
TZID:UTC
BEGIN:STANDARD
TZOFFSETFROM:+0000
TZOFFSETTO:+0000
TZNAME:UTC
DTSTART:20240101T000000
END:STANDARD
END:VTIMEZONE
BEGIN:VEVENT
DTSTART;TZID=UTC:20250717T181500
DTEND;TZID=UTC:20250717T191500
DTSTAMP:20260423T083939
CREATED:20231211T210414Z
LAST-MODIFIED:20250525T212141Z
UID:675-1752776100-1752779700@raum7-kassel.de
SUMMARY:Hatha Yoga für Anfänger*innen
DESCRIPTION:Hatha Yoga ist eine Form des Yoga\, bei der das Gleichgewicht zwischen Körper und Geist vor allem durch körperliche Übungen\, durch Atemübungen und Meditation angestrebt wird. \nEine einmalige Probestunde kostet 10€\, danach habt ihr die Möglichkeit eine 5er Karte oder 10er Karte bei Aileen zu kaufen.Die 5er Karte ist 7 Wochen gültig und kostet 60€\, die 10er Karte ist sogar 15 Wochen gültig und kostet 120€!  \nAnmeldungen direkt an: aileen@raum7-kassel.de
URL:https://raum7-kassel.de/kurs/test-event-reservierung-2/
LOCATION:Raum 7\, Königstor 53\, Kassel\, 34119\, Deutschland
CATEGORIES:Yoga
ATTACH;FMTTYPE=image/jpeg:https://raum7-kassel.de/wp-content/uploads/2023/12/WhatsApp-Image-2024-01-25-at-14.33.43.jpeg
ORGANIZER;CN="Aileen Graf":MAILTO:aileen@raum7-kassel.de
END:VEVENT
END:VCALENDAR